BEGIN:VCALENDAR
VERSION:2.0
PRODID:SchoolNow
CALSCALE:GREGORIAN
BEGIN:VEVENT
UID:7ddee72e-0202-11f1-bad4-029d5c58f7ad
DTSTAMP:20260215T194254Z
SUMMARY:Jacket Archery AT North State
URL;VALUE=URI:https://www.starkvillesd.com/athletics/calendar/8849507/jacke
 t-archery-at-north-state
DTSTART;VALUE=DATE:20260323
DTEND;VALUE=DATE:20260327
END:VEVENT
END:VCALENDAR
