BEGIN:VCALENDAR
VERSION:2.0
PRODID:SchoolNow
CALSCALE:GREGORIAN
BEGIN:VEVENT
UID:bae7bbdc-0202-11f1-8522-0265e1c2a3bd
DTSTAMP:20260204T195017Z
SUMMARY:Jacket Archery VS Winston Academy
URL;VALUE=URI:https://www.starkvillesd.com/athletics/calendar/8849508/jacke
 t-archery-vs-winston-academy
DTSTART:20260402T220000Z
DTEND:20260402T230000Z
END:VEVENT
END:VCALENDAR
