BEGIN:VCALENDAR
VERSION:2.0
PRODID:SchoolNow
CALSCALE:GREGORIAN
BEGIN:VEVENT
UID:dfd5bbc4-0202-11f1-af0c-02c286309ee7
DTSTAMP:20260204T195119Z
SUMMARY:Jacket Archery Pre-Championship Practice
URL;VALUE=URI:https://www.starkvillesd.com/athletics/calendar/8849510/jacke
 t-archery-pre-championship-practice
DTSTART:20260411T185000Z
DTEND:20260411T195000Z
END:VEVENT
END:VCALENDAR
