BEGIN:VCALENDAR
VERSION:2.0
PRODID:SchoolNow
CALSCALE:GREGORIAN
BEGIN:VEVENT
UID:12911d88-0203-11f1-86a7-0a58a9feac02
DTSTAMP:20260331T174908Z
SUMMARY:Jacket Archery High school State Championship
URL;VALUE=URI:https://www.starkvillesd.com/athletics/calendar/8849511/jacke
 t-archery-high-school-state-championship
DTSTART;VALUE=DATE:20260420
DTEND;VALUE=DATE:20260422
END:VEVENT
END:VCALENDAR
