BEGIN:VCALENDAR
VERSION:2.0
PRODID:SchoolNow
CALSCALE:GREGORIAN
BEGIN:VEVENT
UID:377a1ce4-0203-11f1-be4e-0a58a9feac02
DTSTAMP:20260331T175141Z
SUMMARY:Jacket Archery All Star and Xtreme
URL;VALUE=URI:https://www.starkvillesd.com/athletics/calendar/8849512/jacke
 t-archery-all-star-and-xtreme
DTSTART;VALUE=DATE:20260429
DTEND;VALUE=DATE:20260430
END:VEVENT
END:VCALENDAR
