BEGIN:VCALENDAR
VERSION:2.0
PRODID:SchoolNow
CALSCALE:GREGORIAN
BEGIN:VEVENT
UID:6dda5858-0203-11f1-beb0-0afff455e487
DTSTAMP:20260331T175118Z
SUMMARY:Jacket Archery Elementary/Middle School State Championship
URL;VALUE=URI:https://www.starkvillesd.com/athletics/calendar/8849513/jacke
 t-archery-elementary-middle-school-state-championship
DTSTART;VALUE=DATE:20260427
DTEND;VALUE=DATE:20260429
END:VEVENT
END:VCALENDAR
