BEGIN:VCALENDAR
VERSION:2.0
PRODID:SchoolNow
CALSCALE:GREGORIAN
BEGIN:VEVENT
UID:6b9c0030-0205-11f1-8c4e-0affdf23371d
DTSTAMP:20260204T200932Z
SUMMARY:Jacket Baseball VS Heritage Academy
URL;VALUE=URI:https://www.starkvillesd.com/athletics/calendar/8849514/jacke
 t-baseball-vs-heritage-academy
DTSTART:20260214T180000Z
DTEND:20260214T210000Z
END:VEVENT
END:VCALENDAR
