BEGIN:VCALENDAR
VERSION:2.0
PRODID:SchoolNow
CALSCALE:GREGORIAN
BEGIN:VEVENT
UID:34b3888c-0209-11f1-9838-0a58a9feac02
DTSTAMP:20260215T192056Z
SUMMARY:Jacket Baseball VS Kosciusko
DESCRIPTION:Starkville vs Kosciusko\nJV 5:00\nV 7:00
URL;VALUE=URI:https://www.starkvillesd.com/athletics/calendar/8849675/jacke
 t-baseball-vs-kosciusko
DTSTART:20260217T230000Z
DTEND:20260218T030000Z
END:VEVENT
END:VCALENDAR
