BEGIN:VCALENDAR
VERSION:2.0
PRODID:SchoolNow
CALSCALE:GREGORIAN
BEGIN:VEVENT
UID:3c9764ae-020b-11f1-bb69-0e4dd4d2865b
DTSTAMP:20260215T192155Z
SUMMARY:Jacket Baseball VS New Hope
DESCRIPTION:Starkville vs New Hope\nJV 5:00pm\nV 7:00pm
URL;VALUE=URI:https://www.starkvillesd.com/athletics/calendar/8849676/jacke
 t-archery-vs-new-hope
DTSTART:20260220T230000Z
DTEND:20260221T030000Z
END:VEVENT
END:VCALENDAR
