BEGIN:VCALENDAR
VERSION:2.0
PRODID:SchoolNow
CALSCALE:GREGORIAN
BEGIN:VEVENT
UID:1faee018-0212-11f1-8f24-0a58a9feac02
DTSTAMP:20260215T192449Z
SUMMARY:Jacket Baseball VS Tupelo
DESCRIPTION:Starkville vs Tueplo JV 11:00am V 1:00pm\nTupelo vs South Panol
 a V 3:30pm\nStarkville vs South Panola V 6:00pm
URL;VALUE=URI:https://www.starkvillesd.com/athletics/calendar/8849688/jacke
 t-baseball-vs-tupelo
DTSTART:20260221T170000Z
DTEND:20260222T020000Z
END:VEVENT
END:VCALENDAR
