BEGIN:VCALENDAR
VERSION:2.0
PRODID:SchoolNow
CALSCALE:GREGORIAN
BEGIN:VEVENT
UID:3ebbfacc-0212-11f1-93bc-0a58a9feac02
DTSTAMP:20260215T192838Z
SUMMARY:Jacket Baseball AT Neshoba Central
DESCRIPTION:Starkville at Neshoba Central\nJV 5:00pm\nV 7:00pm
URL;VALUE=URI:https://www.starkvillesd.com/athletics/calendar/8849689/jacke
 t-baseball-at-neshoba-central
DTSTART:20260224T230000Z
DTEND:20260225T030000Z
END:VEVENT
END:VCALENDAR
