BEGIN:VCALENDAR
VERSION:2.0
PRODID:SchoolNow
CALSCALE:GREGORIAN
BEGIN:VEVENT
UID:6395425e-0212-11f1-8b0b-0affd46903e3
DTSTAMP:20260215T193030Z
SUMMARY:Jacket Baseball AT Kosciusko
DESCRIPTION:Starkville at Kosciusko \nJV 5:00pm\nV 7:00pm
URL;VALUE=URI:https://www.starkvillesd.com/athletics/calendar/8849690/jacke
 t-baseball-at-kosciusko
DTSTART:20260227T230000Z
DTEND:20260228T030000Z
END:VEVENT
END:VCALENDAR
