BEGIN:VCALENDAR
VERSION:2.0
PRODID:SchoolNow
CALSCALE:GREGORIAN
BEGIN:VEVENT
UID:a26bcc78-0212-11f1-88b5-0a58a9feac02
DTSTAMP:20260204T214408Z
SUMMARY:Jacket Baseball VS Neshoba Central
URL;VALUE=URI:https://www.starkvillesd.com/athletics/calendar/8849691/jacke
 t-baseball-vs-neshoba-central
DTSTART:20260228T170000Z
DTEND:20260301T020000Z
END:VEVENT
END:VCALENDAR
