BEGIN:VCALENDAR
VERSION:2.0
PRODID:SchoolNow
CALSCALE:GREGORIAN
BEGIN:VEVENT
UID:d33d9016-0212-11f1-938b-0a58a9feac02
DTSTAMP:20260215T193415Z
SUMMARY:Jacket Baseball VS Madison Central
DESCRIPTION:Starkville vs Madison Central\nJV 5:00pm\nV 7:00pm
URL;VALUE=URI:https://www.starkvillesd.com/athletics/calendar/8849716/jacke
 t-baseball-vs-madison-central
DTSTART:20260303T230000Z
DTEND:20260304T030000Z
END:VEVENT
END:VCALENDAR
