BEGIN:VCALENDAR
VERSION:2.0
PRODID:SchoolNow
CALSCALE:GREGORIAN
BEGIN:VEVENT
UID:05f7d2aa-0213-11f1-a3f4-0afff455e487
DTSTAMP:20260204T214655Z
SUMMARY:Jacket Baseball AT Madison Central
URL;VALUE=URI:https://www.starkvillesd.com/athletics/calendar/8849717/jacke
 t-baseball-at-madison-central
DTSTART:20260306T230000Z
DTEND:20260307T030000Z
END:VEVENT
END:VCALENDAR
