BEGIN:VCALENDAR
VERSION:2.0
PRODID:SchoolNow
CALSCALE:GREGORIAN
BEGIN:VEVENT
UID:4e9801c4-0213-11f1-aa9d-0a58a9feac02
DTSTAMP:20260215T193608Z
SUMMARY:Jacket Baseball VS Caledonia
DESCRIPTION:Starkville vs Caledonia \nJV 12:00pm\nV 2:00pm
URL;VALUE=URI:https://www.starkvillesd.com/athletics/calendar/8849718/jacke
 t-baseball-vs-caledonia
DTSTART:20260307T180000Z
DTEND:20260307T220000Z
END:VEVENT
END:VCALENDAR
