BEGIN:VCALENDAR
VERSION:2.0
PRODID:SchoolNow
CALSCALE:GREGORIAN
BEGIN:VEVENT
UID:13c18312-0214-11f1-9491-0a58a9feac02
DTSTAMP:20260215T193715Z
SUMMARY:Jacket Baseball AT Gulfport
DESCRIPTION:Starkville vs Gulfport \nJV 5:30pm\nV 7:30pm
URL;VALUE=URI:https://www.starkvillesd.com/athletics/calendar/8849719/jacke
 t-baseball-at-gulfport
DTSTART:20260309T223000Z
DTEND:20260310T033000Z
END:VEVENT
END:VCALENDAR
