BEGIN:VCALENDAR
VERSION:2.0
PRODID:SchoolNow
CALSCALE:GREGORIAN
BEGIN:VEVENT
UID:393a903e-0214-11f1-a381-0affd1487523
DTSTAMP:20260215T193740Z
SUMMARY:Jacket Baseball AT Biloxi
DESCRIPTION:Starkville vs Second Baptist\, TX\nV 12:00pm
URL;VALUE=URI:https://www.starkvillesd.com/athletics/calendar/8849720/jacke
 t-baseball-at-biloxi
DTSTART:20260310T170000Z
DTEND:20260310T200000Z
END:VEVENT
END:VCALENDAR
