BEGIN:VCALENDAR
VERSION:2.0
PRODID:SchoolNow
CALSCALE:GREGORIAN
BEGIN:VEVENT
UID:7576f0ce-0214-11f1-8d81-0a58a9feac02
DTSTAMP:20260215T193800Z
SUMMARY:Jacket Baseball AT Gulfport
DESCRIPTION:Starkville vs Jackson Academy\nJV 10:00am\nV 12:00pm
URL;VALUE=URI:https://www.starkvillesd.com/athletics/calendar/8849721/jacke
 t-baseball-at-gulfport
DTSTART:20260311T150000Z
DTEND:20260311T190000Z
END:VEVENT
END:VCALENDAR
