BEGIN:VCALENDAR
VERSION:2.0
PRODID:SchoolNow
CALSCALE:GREGORIAN
BEGIN:VEVENT
UID:bf7b1a4c-0214-11f1-89ce-0a58a9feac02
DTSTAMP:20260215T193825Z
SUMMARY:Jacket Baseball AT Grenada
DESCRIPTION:Starkville at Grenada\nJV 12:00pm \nV 2:00pm
URL;VALUE=URI:https://www.starkvillesd.com/athletics/calendar/8849722/jacke
 t-baseball-at-grenada
DTSTART:20260314T170000Z
DTEND:20260314T210000Z
END:VEVENT
END:VCALENDAR
