BEGIN:VCALENDAR
VERSION:2.0
PRODID:SchoolNow
CALSCALE:GREGORIAN
BEGIN:VEVENT
UID:e66f3c5a-0214-11f1-ad87-0e0a1100e6c7
DTSTAMP:20260215T193914Z
SUMMARY:Jacket Baseball VS Germantown
DESCRIPTION:Starkville vs Germantown \nJV 5:00pm\nV 7:00pm
URL;VALUE=URI:https://www.starkvillesd.com/athletics/calendar/8849723/jacke
 t-baseball-vs-germantown
DTSTART:20260317T220000Z
DTEND:20260318T020000Z
END:VEVENT
END:VCALENDAR
