BEGIN:VCALENDAR
VERSION:2.0
PRODID:SchoolNow
CALSCALE:GREGORIAN
BEGIN:VEVENT
UID:0c0f1c14-0215-11f1-b249-029d5c58f7ad
DTSTAMP:20260215T194052Z
SUMMARY:Jacket Baseball AT Germantown
DESCRIPTION:Starkville at Germantown \nJV 5:00pm\nV 7:00pm
URL;VALUE=URI:https://www.starkvillesd.com/athletics/calendar/8849724/jacke
 t-baseball-at-germantown
DTSTART:20260320T220000Z
DTEND:20260321T020000Z
END:VEVENT
END:VCALENDAR
