BEGIN:VCALENDAR
VERSION:2.0
PRODID:SchoolNow
CALSCALE:GREGORIAN
BEGIN:VEVENT
UID:5a670110-0215-11f1-832c-0a58a9feac02
DTSTAMP:20260204T220335Z
SUMMARY:Jacket Baseball AT West Point
URL;VALUE=URI:https://www.starkvillesd.com/athletics/calendar/8849725/jacke
 t-baseball-at-west-point
DTSTART:20260321T160000Z
DTEND:20260321T200000Z
END:VEVENT
END:VCALENDAR
