BEGIN:VCALENDAR
VERSION:2.0
PRODID:SchoolNow
CALSCALE:GREGORIAN
BEGIN:VEVENT
UID:825d2b04-0215-11f1-9c9f-0a58a9feac02
DTSTAMP:20260215T194213Z
SUMMARY:Jacket Baseball AT Oxford
DESCRIPTION:Starkville at Oxford\nJV 5:00pm\nV 7:00pm
URL;VALUE=URI:https://www.starkvillesd.com/athletics/calendar/8849726/jacke
 t-baseball-at-oxford
DTSTART:20260324T220000Z
DTEND:20260325T020000Z
END:VEVENT
END:VCALENDAR
