BEGIN:VCALENDAR
VERSION:2.0
PRODID:SchoolNow
CALSCALE:GREGORIAN
BEGIN:VEVENT
UID:9c146eea-0215-11f1-9c8a-0a58a9feac02
DTSTAMP:20260215T194337Z
SUMMARY:Jacket Baseball VS Oxford
DESCRIPTION:Starkville vs Oxford\nJV 5:00pm\nV 7:00pm
URL;VALUE=URI:https://www.starkvillesd.com/athletics/calendar/8849727/jacke
 t-baseball-vs-oxford
DTSTART:20260327T220000Z
DTEND:20260328T020000Z
END:VEVENT
END:VCALENDAR
