BEGIN:VCALENDAR
VERSION:2.0
PRODID:SchoolNow
CALSCALE:GREGORIAN
BEGIN:VEVENT
UID:c6b70a86-0215-11f1-bb10-0a58a9feac02
DTSTAMP:20260215T194234Z
SUMMARY:Jacket Baseball VS Houston
DESCRIPTION:Starkville vs Houston\nJV 12:00pm\nV 2:00pm
URL;VALUE=URI:https://www.starkvillesd.com/athletics/calendar/8849728/jacke
 t-baseball-vs-houston
DTSTART:20260328T170000Z
DTEND:20260328T210000Z
END:VEVENT
END:VCALENDAR
