BEGIN:VCALENDAR
VERSION:2.0
PRODID:SchoolNow
CALSCALE:GREGORIAN
BEGIN:VEVENT
UID:f00d2c44-0215-11f1-bf36-0affd1487523
DTSTAMP:20260204T220747Z
SUMMARY:Jacket Baseball AT Murrah
URL;VALUE=URI:https://www.starkvillesd.com/athletics/calendar/8849729/jacke
 t-baseball-at-murrah
DTSTART:20260331T220000Z
DTEND:20260401T020000Z
END:VEVENT
END:VCALENDAR
