BEGIN:VCALENDAR
VERSION:2.0
PRODID:SchoolNow
CALSCALE:GREGORIAN
BEGIN:VEVENT
UID:54d40b34-0216-11f1-a3ac-02c286309ee7
DTSTAMP:20260204T221036Z
SUMMARY:Jacket Baseball VS Murrah
URL;VALUE=URI:https://www.starkvillesd.com/athletics/calendar/8849730/jacke
 t-baseball-vs-murrah
DTSTART:20260402T220000Z
DTEND:20260403T020000Z
END:VEVENT
END:VCALENDAR
