BEGIN:VCALENDAR
VERSION:2.0
PRODID:SchoolNow
CALSCALE:GREGORIAN
BEGIN:VEVENT
UID:a2f0c352-0216-11f1-8d63-0e4dd4d2865b
DTSTAMP:20260204T221247Z
SUMMARY:Jacket Baseball AT Tupelo
URL;VALUE=URI:https://www.starkvillesd.com/athletics/calendar/8849731/jacke
 t-baseball-at-tupelo
DTSTART:20260403T170000Z
DTEND:20260403T210000Z
END:VEVENT
END:VCALENDAR
