BEGIN:VCALENDAR
VERSION:2.0
PRODID:SchoolNow
CALSCALE:GREGORIAN
BEGIN:VEVENT
UID:c2555e56-0216-11f1-a9ec-029d5c58f7ad
DTSTAMP:20260204T221339Z
SUMMARY:Jacket Baseball AT Caledonia
URL;VALUE=URI:https://www.starkvillesd.com/athletics/calendar/8849732/jacke
 t-baseball-at-caledonia
DTSTART:20260404T160000Z
DTEND:20260404T200000Z
END:VEVENT
END:VCALENDAR
