BEGIN:VCALENDAR
VERSION:2.0
PRODID:SchoolNow
CALSCALE:GREGORIAN
BEGIN:VEVENT
UID:f84d8452-0216-11f1-b3a5-0affd46903e3
DTSTAMP:20260204T221510Z
SUMMARY:Jacket Baseball VS Clinton
URL;VALUE=URI:https://www.starkvillesd.com/athletics/calendar/8849733/jacke
 t-baseball-vs-clinton
DTSTART:20260407T220000Z
DTEND:20260408T020000Z
END:VEVENT
END:VCALENDAR
