BEGIN:VCALENDAR
VERSION:2.0
PRODID:SchoolNow
CALSCALE:GREGORIAN
BEGIN:VEVENT
UID:1fb36f02-0217-11f1-aebf-0a58a9feac02
DTSTAMP:20260204T221616Z
SUMMARY:Jacket Baseball AT Clinton
URL;VALUE=URI:https://www.starkvillesd.com/athletics/calendar/8849734/jacke
 t-baseball-at-clinton
DTSTART:20260410T220000Z
DTEND:20260411T020000Z
END:VEVENT
END:VCALENDAR
