BEGIN:VCALENDAR
VERSION:2.0
PRODID:SchoolNow
CALSCALE:GREGORIAN
BEGIN:VEVENT
UID:44077a1a-0217-11f1-918d-0a58a9feac02
DTSTAMP:20260331T175345Z
SUMMARY:Jacket Baseball VS Starkville Christian
URL;VALUE=URI:https://www.starkvillesd.com/athletics/calendar/8849735/jacke
 t-baseball-vs-strakville-christian
DTSTART:20260418T170000Z
DTEND:20260418T210000Z
END:VEVENT
END:VCALENDAR
