BEGIN:VCALENDAR
VERSION:2.0
PRODID:SchoolNow
CALSCALE:GREGORIAN
BEGIN:VEVENT
UID:6f045684-0217-11f1-8407-0a58a9feac02
DTSTAMP:20260331T175027Z
SUMMARY:Jacket Baseball Playoffs First Round
URL;VALUE=URI:https://www.starkvillesd.com/athletics/calendar/8849736/jacke
 t-baseball-playoffs-first-round
DTSTART;VALUE=DATE:20260424
DTEND;VALUE=DATE:20260428
END:VEVENT
END:VCALENDAR
