BEGIN:VCALENDAR
VERSION:2.0
PRODID:SchoolNow
CALSCALE:GREGORIAN
BEGIN:VEVENT
UID:983a319a-0217-11f1-9f32-0a58a9feac02
DTSTAMP:20260331T175429Z
SUMMARY:Jacket Baseball Playoffs Second Round
URL;VALUE=URI:https://www.starkvillesd.com/athletics/calendar/8849737/jacke
 t-baseball-playoffs-second-round
DTSTART;VALUE=DATE:20260501
DTEND;VALUE=DATE:20260505
END:VEVENT
END:VCALENDAR
