BEGIN:VCALENDAR
VERSION:2.0
PRODID:SchoolNow
CALSCALE:GREGORIAN
BEGIN:VEVENT
UID:bdb42688-0217-11f1-896e-0a58a9feac02
DTSTAMP:20260331T175448Z
SUMMARY:Jacket Baseball North Half Championship
URL;VALUE=URI:https://www.starkvillesd.com/athletics/calendar/8849782/jacke
 t-baseball-north-half-championship
DTSTART;VALUE=DATE:20260508
DTEND;VALUE=DATE:20260512
END:VEVENT
END:VCALENDAR
