BEGIN:VCALENDAR
VERSION:2.0
PRODID:SchoolNow
CALSCALE:GREGORIAN
BEGIN:VEVENT
UID:d4c1335c-0217-11f1-a913-0a58a9feac02
DTSTAMP:20260331T175510Z
SUMMARY:Jacket Baseball State Championship
URL;VALUE=URI:https://www.starkvillesd.com/athletics/calendar/8849783/jacke
 t-baseball-state-championship
DTSTART;VALUE=DATE:20260518
DTEND;VALUE=DATE:20260524
END:VEVENT
END:VCALENDAR
