BEGIN:VCALENDAR
VERSION:2.0
PRODID:SchoolNow
CALSCALE:GREGORIAN
BEGIN:VEVENT
UID:556efe2a-02be-11f1-b6d4-0a58a9feac02
DTSTAMP:20260205T181312Z
SUMMARY:Jacket Softball AT Lake Cormorant Jamboree
URL;VALUE=URI:https://www.starkvillesd.com/athletics/calendar/8850010/jacke
 t-softball-at-lake-cormorant-jamboree
DTSTART:20260207T181200Z
DTEND:20260207T191200Z
END:VEVENT
END:VCALENDAR
