BEGIN:VCALENDAR
VERSION:2.0
PRODID:SchoolNow
CALSCALE:GREGORIAN
BEGIN:VEVENT
UID:7d5466fa-02be-11f1-ad47-0a58a9feac02
DTSTAMP:20260205T181419Z
SUMMARY:Jacket Softball AT Pisgah
URL;VALUE=URI:https://www.starkvillesd.com/athletics/calendar/8850011/jacke
 t-softball-at-pisgah
DTSTART:20260212T230000Z
DTEND:20260213T020000Z
END:VEVENT
END:VCALENDAR
