BEGIN:VCALENDAR
VERSION:2.0
PRODID:SchoolNow
CALSCALE:GREGORIAN
BEGIN:VEVENT
UID:9c2817e8-02be-11f1-acd4-0e4dd4d2865b
DTSTAMP:20260205T181511Z
SUMMARY:Jacket Softball AT Eupora
URL;VALUE=URI:https://www.starkvillesd.com/athletics/calendar/8850012/jacke
 t-softball-at-eupora
DTSTART:20260213T230000Z
DTEND:20260214T020000Z
END:VEVENT
END:VCALENDAR
