BEGIN:VCALENDAR
VERSION:2.0
PRODID:SchoolNow
CALSCALE:GREGORIAN
BEGIN:VEVENT
UID:fc8edb6c-02be-11f1-8ce6-0a58a9feac02
DTSTAMP:20260205T181752Z
SUMMARY:Jacket Softball AT Choctaw Central Classic
URL;VALUE=URI:https://www.starkvillesd.com/athletics/calendar/8850013/jacke
 t-softball-at-choctaw-central-classic
DTSTART:20260214T181500Z
DTEND:20260214T191500Z
END:VEVENT
END:VCALENDAR
