BEGIN:VCALENDAR
VERSION:2.0
PRODID:SchoolNow
CALSCALE:GREGORIAN
BEGIN:VEVENT
UID:1f37c4ee-02bf-11f1-bbe0-0a58a9feac02
DTSTAMP:20260215T192027Z
SUMMARY:Jacket Softball VS Choctaw Central
DESCRIPTION:Starkville vs Choctaw Central\nJV 5:00pm\nV 6:30pm
URL;VALUE=URI:https://www.starkvillesd.com/athletics/calendar/8850014/jacke
 t-softball-vs-choctaw-central
DTSTART:20260217T230000Z
DTEND:20260218T020000Z
END:VEVENT
END:VCALENDAR
