BEGIN:VCALENDAR
VERSION:2.0
PRODID:SchoolNow
CALSCALE:GREGORIAN
BEGIN:VEVENT
UID:6150e11c-02bf-11f1-b777-0affd46903e3
DTSTAMP:20260215T192726Z
SUMMARY:Jacket Softball VS Choctaw County
DESCRIPTION:Starkville vs Choctaw County\nJV 5:00pm\nV 6:30pm
URL;VALUE=URI:https://www.starkvillesd.com/athletics/calendar/8850015/jacke
 t-softball-vs-choctaw-county
DTSTART:20260224T230000Z
DTEND:20260225T020000Z
END:VEVENT
END:VCALENDAR
