BEGIN:VCALENDAR
VERSION:2.0
PRODID:SchoolNow
CALSCALE:GREGORIAN
BEGIN:VEVENT
UID:9662120e-02bf-11f1-abf2-0e4dd4d2865b
DTSTAMP:20260215T192921Z
SUMMARY:Jacket Softball VS Nanih Waiya
DESCRIPTION:Starkville vs Nanih Waiya\nJV 5:00pm\nV 6:30pm
URL;VALUE=URI:https://www.starkvillesd.com/athletics/calendar/8850016/jacke
 t-softball-vs-nanih-waiya
DTSTART:20260226T230000Z
DTEND:20260227T020000Z
END:VEVENT
END:VCALENDAR
