BEGIN:VCALENDAR
VERSION:2.0
PRODID:SchoolNow
CALSCALE:GREGORIAN
BEGIN:VEVENT
UID:b38b0296-02bf-11f1-bfad-0affdf23371d
DTSTAMP:20260205T182259Z
SUMMARY:Jacket Softball AT Oxford Tournament
URL;VALUE=URI:https://www.starkvillesd.com/athletics/calendar/8850017/jacke
 t-softball-at-oxford-tournament
DTSTART:20260228T182200Z
DTEND:20260228T192200Z
END:VEVENT
END:VCALENDAR
