BEGIN:VCALENDAR
VERSION:2.0
PRODID:SchoolNow
CALSCALE:GREGORIAN
BEGIN:VEVENT
UID:eae29452-02bf-11f1-b0f9-0a58a9feac02
DTSTAMP:20260215T193210Z
SUMMARY:Jacket Softball AT Kosciusko
DESCRIPTION:Starkville at Kosciusko\nJV 5:00pm\nV 6:30pm
URL;VALUE=URI:https://www.starkvillesd.com/athletics/calendar/8850018/jacke
 t-softball-at-kosciusko
DTSTART:20260302T230000Z
DTEND:20260303T020000Z
END:VEVENT
END:VCALENDAR
