BEGIN:VCALENDAR
VERSION:2.0
PRODID:SchoolNow
CALSCALE:GREGORIAN
BEGIN:VEVENT
UID:04c91576-02c0-11f1-8987-029d5c58f7ad
DTSTAMP:20260215T193347Z
SUMMARY:Jacket Softball VS Eupora
DESCRIPTION:Starkville vs Eupora\nJV 5:00pm\nV 6:30pm
URL;VALUE=URI:https://www.starkvillesd.com/athletics/calendar/8850019/jacke
 t-softball-vs-eupora
DTSTART:20260303T230000Z
DTEND:20260304T020000Z
END:VEVENT
END:VCALENDAR
