BEGIN:VCALENDAR
VERSION:2.0
PRODID:SchoolNow
CALSCALE:GREGORIAN
BEGIN:VEVENT
UID:2e563798-02c0-11f1-8ddb-0a58a9feac02
DTSTAMP:20260215T193539Z
SUMMARY:Jacket Softball Starkville Tournament
DESCRIPTION:Starkville Tournament\nWest Point\nFrench Camp\nLake Cormorant\
 nEthel\nTBD
URL;VALUE=URI:https://www.starkvillesd.com/athletics/calendar/8850020/jacke
 t-softball-starkville-tournamnet
DTSTART;VALUE=DATE:20260307
DTEND;VALUE=DATE:20260308
END:VEVENT
END:VCALENDAR
