BEGIN:VCALENDAR
VERSION:2.0
PRODID:SchoolNow
CALSCALE:GREGORIAN
BEGIN:VEVENT
UID:56be5396-02c0-11f1-a138-0a58a9feac02
DTSTAMP:20260215T193849Z
SUMMARY:Jacket Softball VS Madison Central
DESCRIPTION:Starkville vs Madison Central\nJV 5:00pm \nV 6:30pm
URL;VALUE=URI:https://www.starkvillesd.com/athletics/calendar/8850021/jacke
 t-softball-vs-madison-central
DTSTART:20260317T220000Z
DTEND:20260318T010000Z
END:VEVENT
END:VCALENDAR
