BEGIN:VCALENDAR
VERSION:2.0
PRODID:SchoolNow
CALSCALE:GREGORIAN
BEGIN:VEVENT
UID:723b755e-02c0-11f1-b3c8-0e0a1100e6c7
DTSTAMP:20260215T194033Z
SUMMARY:Jacket Softball AT Clinton
DESCRIPTION:Starkville at Clinton\nJV 5:00pm\nV 6:30pm
URL;VALUE=URI:https://www.starkvillesd.com/athletics/calendar/8850022/jacke
 t-softball-at-clinton
DTSTART:20260319T220000Z
DTEND:20260320T010000Z
END:VEVENT
END:VCALENDAR
